BEGIN:VCALENDAR
PRODID:-//www.undertheradar.co.nz//NONSGML Undertheradar//EN
VERSION:2.0
BEGIN:VEVENT
DESCRIPTION:Pangaea - St Peter's Hall, Paekakariki
UID:1190175379-91643@undertheradar.co.nz
DTSTAMP:20240831T180000Z
DTSTART:20240831T180000
DTEND:20240831T180059
SUMMARY:Pangaea
LOCATION:St Peter's Hall, Paekakariki
URL:http://www.undertheradar.co.nz/gig/91643/gig.utr
END:VEVENT
END:VCALENDAR

