BEGIN:VCALENDAR
PRODID:-//www.undertheradar.co.nz//NONSGML Undertheradar//EN
VERSION:2.0
BEGIN:VEVENT
DESCRIPTION:Racing 'Ooh Yea' Tour - Whammy Bar, Auckland
UID:1190175379-91682@undertheradar.co.nz
DTSTAMP:20241004T200000Z
DTSTART:20241004T200000
DTEND:20241004T200059
SUMMARY:Racing 'Ooh Yea' Tour
LOCATION:Whammy Bar, Auckland
URL:http://www.undertheradar.co.nz/gig/91682/gig.utr
END:VEVENT
END:VCALENDAR

