BEGIN:VCALENDAR
PRODID:-//www.undertheradar.co.nz//NONSGML Undertheradar//EN
VERSION:2.0
BEGIN:VEVENT
DESCRIPTION:Karan Aujla - 'It Was All A Dream' World Tour - Spark Arena, Auckland
UID:1190175379-91739@undertheradar.co.nz
DTSTAMP:20241101T190000Z
DTSTART:20241101T190000
DTEND:20241101T190059
SUMMARY:Karan Aujla - 'It Was All A Dream' World Tour
LOCATION:Spark Arena, Auckland
URL:http://www.undertheradar.co.nz/gig/91739/gig.utr
END:VEVENT
END:VCALENDAR

