BEGIN:VCALENDAR
PRODID:-//www.undertheradar.co.nz//NONSGML Undertheradar//EN
VERSION:2.0
BEGIN:VEVENT
DESCRIPTION:Howling At The Moon - Special Show! - MOON, Wellington
UID:1190175379-91828@undertheradar.co.nz
DTSTAMP:20240831T200000Z
DTSTART:20240831T200000
DTEND:20240831T200059
SUMMARY:Howling At The Moon - Special Show!
LOCATION:MOON, Wellington
URL:http://www.undertheradar.co.nz/gig/91828/gig.utr
END:VEVENT
END:VCALENDAR

