BEGIN:VCALENDAR
PRODID:-//www.undertheradar.co.nz//NONSGML Undertheradar//EN
VERSION:2.0
BEGIN:VEVENT
DESCRIPTION:Exit Sign - Single Release - Small Rave, Auckland
UID:1190175379-91838@undertheradar.co.nz
DTSTAMP:20240914T190000Z
DTSTART:20240914T190000
DTEND:20240914T190059
SUMMARY:Exit Sign - Single Release
LOCATION:Small Rave, Auckland
URL:http://www.undertheradar.co.nz/gig/91838/gig.utr
END:VEVENT
END:VCALENDAR

