BEGIN:VCALENDAR
PRODID:-//www.undertheradar.co.nz//NONSGML Undertheradar//EN
VERSION:2.0
BEGIN:VEVENT
DESCRIPTION:Pearl Jam - 'Dark Matter World Tour 2024' - Mt Smart Stadium, Auckland
UID:1190175379-91843@undertheradar.co.nz
DTSTAMP:20241110T170000Z
DTSTART:20241110T170000
DTEND:20241110T170059
SUMMARY:Pearl Jam - 'Dark Matter World Tour 2024'
LOCATION:Mt Smart Stadium, Auckland
URL:http://www.undertheradar.co.nz/gig/91843/gig.utr
END:VEVENT
END:VCALENDAR

