BEGIN:VCALENDAR
PRODID:-//www.undertheradar.co.nz//NONSGML Undertheradar//EN
VERSION:2.0
BEGIN:VEVENT
DESCRIPTION:Womb - Spring Single Release Tour - Lyttelton Coffee Company, Lyttelton
UID:1190175379-91874@undertheradar.co.nz
DTSTAMP:20241102T200000Z
DTSTART:20241102T200000
DTEND:20241102T200059
SUMMARY:Womb - Spring Single Release Tour
LOCATION:Lyttelton Coffee Company, Lyttelton
URL:http://www.undertheradar.co.nz/gig/91874/gig.utr
END:VEVENT
END:VCALENDAR

