BEGIN:VCALENDAR
PRODID:-//www.undertheradar.co.nz//NONSGML Undertheradar//EN
VERSION:2.0
BEGIN:VEVENT
DESCRIPTION:Mackenzy Mackay - The Tuning Fork, Auckland
UID:1190175379-91890@undertheradar.co.nz
DTSTAMP:20241007T200000Z
DTSTART:20241007T200000
DTEND:20241007T200059
SUMMARY:Mackenzy Mackay
LOCATION:The Tuning Fork, Auckland
URL:http://www.undertheradar.co.nz/gig/91890/gig.utr
END:VEVENT
END:VCALENDAR

