BEGIN:VCALENDAR
PRODID:-//www.undertheradar.co.nz//NONSGML Undertheradar//EN
VERSION:2.0
BEGIN:VEVENT
DESCRIPTION:Brighter Days - St Matthew-in-the-City, Auckland
UID:1190175379-92022@undertheradar.co.nz
DTSTAMP:20240914T143000Z
DTSTART:20240914T143000
DTEND:20240914T143059
SUMMARY:Brighter Days
LOCATION:St Matthew-in-the-City, Auckland
URL:http://www.undertheradar.co.nz/gig/92022/gig.utr
END:VEVENT
END:VCALENDAR

