BEGIN:VCALENDAR
PRODID:-//www.undertheradar.co.nz//NONSGML Undertheradar//EN
VERSION:2.0
BEGIN:VEVENT
DESCRIPTION:Ladi6 - Alofa: The Heartbeat Tour - Leigh Sawmill Cafe, Leigh
UID:1190175379-92175@undertheradar.co.nz
DTSTAMP:20241109T203000Z
DTSTART:20241109T203000
DTEND:20241109T203059
SUMMARY:Ladi6 - Alofa: The Heartbeat Tour
LOCATION:Leigh Sawmill Cafe, Leigh
URL:http://www.undertheradar.co.nz/gig/92175/gig.utr
END:VEVENT
END:VCALENDAR

