BEGIN:VCALENDAR
PRODID:-//www.undertheradar.co.nz//NONSGML Undertheradar//EN
VERSION:2.0
BEGIN:VEVENT
DESCRIPTION:Goodspace Presents VENDOR - An Unconventional Album Release - Lim Chhour Foodcourt, Auckland
UID:1190175379-92238@undertheradar.co.nz
DTSTAMP:20241002T120000Z
DTSTART:20241002T120000
DTEND:20241002T120059
SUMMARY:Goodspace Presents VENDOR - An Unconventional Album Release
LOCATION:Lim Chhour Foodcourt, Auckland
URL:http://www.undertheradar.co.nz/gig/92238/gig.utr
END:VEVENT
END:VCALENDAR

