BEGIN:VCALENDAR
PRODID:-//www.undertheradar.co.nz//NONSGML Undertheradar//EN
VERSION:2.0
BEGIN:VEVENT
DESCRIPTION:Moon Jam Nite - MOON, Wellington
UID:1190175379-92316@undertheradar.co.nz
DTSTAMP:20241008T160000Z
DTSTART:20241008T160000
DTEND:20241008T160059
SUMMARY:Moon Jam Nite
LOCATION:MOON, Wellington
URL:http://www.undertheradar.co.nz/gig/92316/gig.utr
END:VEVENT
END:VCALENDAR

