BEGIN:VCALENDAR
PRODID:-//www.undertheradar.co.nz//NONSGML Undertheradar//EN
VERSION:2.0
BEGIN:VEVENT
DESCRIPTION:Gong Face - Whangarei Pop-Up - Whangarei Central City Pop Up, Whangarei
UID:1190175379-92511@undertheradar.co.nz
DTSTAMP:20241011T120000Z
DTSTART:20241011T120000
DTEND:20241011T120059
SUMMARY:Gong Face - Whangarei Pop-Up
LOCATION:Whangarei Central City Pop Up, Whangarei
URL:http://www.undertheradar.co.nz/gig/92511/gig.utr
END:VEVENT
END:VCALENDAR

