BEGIN:VCALENDAR
PRODID:-//www.undertheradar.co.nz//NONSGML Undertheradar//EN
VERSION:2.0
BEGIN:VEVENT
DESCRIPTION:Peter Urlich DJ Set - Crown Range Lounge, Auckland
UID:1190175379-92564@undertheradar.co.nz
DTSTAMP:20241005T210000Z
DTSTART:20241005T210000
DTEND:20241005T210059
SUMMARY:Peter Urlich DJ Set
LOCATION:Crown Range Lounge, Auckland
URL:http://www.undertheradar.co.nz/gig/92564/gig.utr
END:VEVENT
END:VCALENDAR

