BEGIN:VCALENDAR
PRODID:-//www.undertheradar.co.nz//NONSGML Undertheradar//EN
VERSION:2.0
BEGIN:VEVENT
DESCRIPTION:The Entire Alphabet - The Duck, Dunedin
UID:1190175379-92588@undertheradar.co.nz
DTSTAMP:20241011T180000Z
DTSTART:20241011T180000
DTEND:20241011T180059
SUMMARY:The Entire Alphabet
LOCATION:The Duck, Dunedin
URL:http://www.undertheradar.co.nz/gig/92588/gig.utr
END:VEVENT
END:VCALENDAR

