BEGIN:VCALENDAR
PRODID:-//www.undertheradar.co.nz//NONSGML Undertheradar//EN
VERSION:2.0
BEGIN:VEVENT
DESCRIPTION:Jazmine Mary Single Release - Glen Eden Playhouse Theatre, Auckland
UID:1190175379-92619@undertheradar.co.nz
DTSTAMP:20241101T190000Z
DTSTART:20241101T190000
DTEND:20241101T190059
SUMMARY:Jazmine Mary Single Release
LOCATION:Glen Eden Playhouse Theatre, Auckland
URL:http://www.undertheradar.co.nz/gig/92619/gig.utr
END:VEVENT
END:VCALENDAR

