BEGIN:VCALENDAR
PRODID:-//www.undertheradar.co.nz//NONSGML Undertheradar//EN
VERSION:2.0
BEGIN:VEVENT
DESCRIPTION:The Preauricular Pit: Ritual Heaps, Tom Cadillac, Kristian Larsen - Audio Foundation, Auckland
UID:1190175379-92732@undertheradar.co.nz
DTSTAMP:20241018T200000Z
DTSTART:20241018T200000
DTEND:20241018T200059
SUMMARY:The Preauricular Pit: Ritual Heaps, Tom Cadillac, Kristian Larsen
LOCATION:Audio Foundation, Auckland
URL:http://www.undertheradar.co.nz/gig/92732/gig.utr
END:VEVENT
END:VCALENDAR

