BEGIN:VCALENDAR
PRODID:-//www.undertheradar.co.nz//NONSGML Undertheradar//EN
VERSION:2.0
BEGIN:VEVENT
DESCRIPTION:The Otis Mace Combo - ONEONESIX, Whangarei
UID:1190175379-92799@undertheradar.co.nz
DTSTAMP:20241115T200000Z
DTSTART:20241115T200000
DTEND:20241115T200059
SUMMARY:The Otis Mace Combo
LOCATION:ONEONESIX, Whangarei
URL:http://www.undertheradar.co.nz/gig/92799/gig.utr
END:VEVENT
END:VCALENDAR

