BEGIN:VCALENDAR
PRODID:-//www.undertheradar.co.nz//NONSGML Undertheradar//EN
VERSION:2.0
BEGIN:VEVENT
DESCRIPTION:Playing Second Fiddle - Fringe Bar, Wellington
UID:1190175379-93018@undertheradar.co.nz
DTSTAMP:20241022T181500Z
DTSTART:20241022T181500
DTEND:20241022T181559
SUMMARY:Playing Second Fiddle
LOCATION:Fringe Bar, Wellington
URL:http://www.undertheradar.co.nz/gig/93018/gig.utr
END:VEVENT
END:VCALENDAR

