BEGIN:VCALENDAR
PRODID:-//www.undertheradar.co.nz//NONSGML Undertheradar//EN
VERSION:2.0
BEGIN:VEVENT
DESCRIPTION:Oscillate - Ante Social, Auckland
UID:1190175379-93035@undertheradar.co.nz
DTSTAMP:20241101T210000Z
DTSTART:20241101T210000
DTEND:20241101T210059
SUMMARY:Oscillate
LOCATION:Ante Social, Auckland
URL:http://www.undertheradar.co.nz/gig/93035/gig.utr
END:VEVENT
END:VCALENDAR

