BEGIN:VCALENDAR
PRODID:-//www.undertheradar.co.nz//NONSGML Undertheradar//EN
VERSION:2.0
BEGIN:VEVENT
DESCRIPTION:L.A.Mitchell Meaningful Work Solo Tour - Pitt Street Methodist Church , Auckland
UID:1190175379-93193@undertheradar.co.nz
DTSTAMP:20241207T190000Z
DTSTART:20241207T190000
DTEND:20241207T190059
SUMMARY:L.A.Mitchell Meaningful Work Solo Tour
LOCATION:Pitt Street Methodist Church , Auckland
URL:http://www.undertheradar.co.nz/gig/93193/gig.utr
END:VEVENT
END:VCALENDAR

