BEGIN:VCALENDAR
PRODID:-//www.undertheradar.co.nz//NONSGML Undertheradar//EN
VERSION:2.0
BEGIN:VEVENT
DESCRIPTION:Freq Fm - Rogue and Vagabond, Wellington
UID:1190175379-93293@undertheradar.co.nz
DTSTAMP:20241129T213000Z
DTSTART:20241129T213000
DTEND:20241129T213059
SUMMARY:Freq Fm
LOCATION:Rogue and Vagabond, Wellington
URL:http://www.undertheradar.co.nz/gig/93293/gig.utr
END:VEVENT
END:VCALENDAR

