BEGIN:VCALENDAR
PRODID:-//www.undertheradar.co.nz//NONSGML Undertheradar//EN
VERSION:2.0
BEGIN:VEVENT
DESCRIPTION:Saturday Soul Sessions - Crown Range Lounge, Auckland
UID:1190175379-93388@undertheradar.co.nz
DTSTAMP:20241116T210000Z
DTSTART:20241116T210000
DTEND:20241116T210059
SUMMARY:Saturday Soul Sessions
LOCATION:Crown Range Lounge, Auckland
URL:http://www.undertheradar.co.nz/gig/93388/gig.utr
END:VEVENT
END:VCALENDAR

