BEGIN:VCALENDAR
PRODID:-//www.undertheradar.co.nz//NONSGML Undertheradar//EN
VERSION:2.0
BEGIN:VEVENT
DESCRIPTION:The Retro Afterparty Sunday - Ding Dong Lounge, Auckland
UID:1190175379-93413@undertheradar.co.nz
DTSTAMP:20241124T180000Z
DTSTART:20241124T180000
DTEND:20241124T180059
SUMMARY:The Retro Afterparty Sunday
LOCATION:Ding Dong Lounge, Auckland
URL:http://www.undertheradar.co.nz/gig/93413/gig.utr
END:VEVENT
END:VCALENDAR

