BEGIN:VCALENDAR
PRODID:-//www.undertheradar.co.nz//NONSGML Undertheradar//EN
VERSION:2.0
BEGIN:VEVENT
DESCRIPTION:Zuke - Come Closer Album Release Show - Neck of the Woods, Auckland
UID:1190175379-93424@undertheradar.co.nz
DTSTAMP:20241207T220000Z
DTSTART:20241207T220000
DTEND:20241207T220059
SUMMARY:Zuke - Come Closer Album Release Show
LOCATION:Neck of the Woods, Auckland
URL:http://www.undertheradar.co.nz/gig/93424/gig.utr
END:VEVENT
END:VCALENDAR

