BEGIN:VCALENDAR
PRODID:-//www.undertheradar.co.nz//NONSGML Undertheradar//EN
VERSION:2.0
BEGIN:VEVENT
DESCRIPTION:Oscar Ladell - No Blue Tour with Wilson Blackley - The Blue Door Bar, Arrowtown
UID:1190175379-93509@undertheradar.co.nz
DTSTAMP:20241226T193000Z
DTSTART:20241226T193000
DTEND:20241226T193059
SUMMARY:Oscar Ladell - No Blue Tour with Wilson Blackley
LOCATION:The Blue Door Bar, Arrowtown
URL:http://www.undertheradar.co.nz/gig/93509/gig.utr
END:VEVENT
END:VCALENDAR

