BEGIN:VCALENDAR
PRODID:-//www.undertheradar.co.nz//NONSGML Undertheradar//EN
VERSION:2.0
BEGIN:VEVENT
DESCRIPTION:An Evening With The Modern Māori Quartet - Aotea Square, Auckland
UID:1190175379-93557@undertheradar.co.nz
DTSTAMP:20241129T180000Z
DTSTART:20241129T180000
DTEND:20241129T180059
SUMMARY:An Evening With The Modern Māori Quartet
LOCATION:Aotea Square, Auckland
URL:http://www.undertheradar.co.nz/gig/93557/gig.utr
END:VEVENT
END:VCALENDAR

