BEGIN:VCALENDAR
PRODID:-//www.undertheradar.co.nz//NONSGML Undertheradar//EN
VERSION:2.0
BEGIN:VEVENT
DESCRIPTION:Abigail (JP) _ Stalker (NZ) NZ Tour 2025 - Valhalla, Wellington
UID:1190175379-93865@undertheradar.co.nz
DTSTAMP:20250510T200000Z
DTSTART:20250510T200000
DTEND:20250510T200059
SUMMARY:Abigail (JP) _ Stalker (NZ) NZ Tour 2025
LOCATION:Valhalla, Wellington
URL:http://www.undertheradar.co.nz/gig/93865/gig.utr
END:VEVENT
END:VCALENDAR

