BEGIN:VCALENDAR
PRODID:-//www.undertheradar.co.nz//NONSGML Undertheradar//EN
VERSION:2.0
BEGIN:VEVENT
DESCRIPTION:Lord Kaos - Kaos Over New Zealand 2025 - Whammy Bar, Auckland
UID:1190175379-93955@undertheradar.co.nz
DTSTAMP:20250410T203000Z
DTSTART:20250410T203000
DTEND:20250410T203059
SUMMARY:Lord Kaos - Kaos Over New Zealand 2025
LOCATION:Whammy Bar, Auckland
URL:http://www.undertheradar.co.nz/gig/93955/gig.utr
END:VEVENT
END:VCALENDAR

