BEGIN:VCALENDAR
PRODID:-//www.undertheradar.co.nz//NONSGML Undertheradar//EN
VERSION:2.0
BEGIN:VEVENT
DESCRIPTION:Donnybrook Fair - The Portland Public House, Auckland
UID:1190175379-93971@undertheradar.co.nz
DTSTAMP:20241220T203000Z
DTSTART:20241220T203000
DTEND:20241220T203059
SUMMARY:Donnybrook Fair
LOCATION:The Portland Public House, Auckland
URL:http://www.undertheradar.co.nz/gig/93971/gig.utr
END:VEVENT
END:VCALENDAR

