BEGIN:VCALENDAR
PRODID:-//www.undertheradar.co.nz//NONSGML Undertheradar//EN
VERSION:2.0
BEGIN:VEVENT
DESCRIPTION:Artists For Palestine II - Big Fan, Auckland
UID:1190175379-94169@undertheradar.co.nz
DTSTAMP:20250124T193000Z
DTSTART:20250124T193000
DTEND:20250124T193059
SUMMARY:Artists For Palestine II
LOCATION:Big Fan, Auckland
URL:http://www.undertheradar.co.nz/gig/94169/gig.utr
END:VEVENT
END:VCALENDAR

