BEGIN:VCALENDAR
PRODID:-//www.undertheradar.co.nz//NONSGML Undertheradar//EN
VERSION:2.0
BEGIN:VEVENT
DESCRIPTION:Moon Jam Nite - MOON, Wellington
UID:1190175379-94205@undertheradar.co.nz
DTSTAMP:20250204T180000Z
DTSTART:20250204T180000
DTEND:20250204T180059
SUMMARY:Moon Jam Nite
LOCATION:MOON, Wellington
URL:http://www.undertheradar.co.nz/gig/94205/gig.utr
END:VEVENT
END:VCALENDAR

