BEGIN:VCALENDAR
PRODID:-//www.undertheradar.co.nz//NONSGML Undertheradar//EN
VERSION:2.0
BEGIN:VEVENT
DESCRIPTION:Unown And Friends - The Mothership, Auckland
UID:1190175379-94316@undertheradar.co.nz
DTSTAMP:20250118T220000Z
DTSTART:20250118T220000
DTEND:20250118T220059
SUMMARY:Unown And Friends
LOCATION:The Mothership, Auckland
URL:http://www.undertheradar.co.nz/gig/94316/gig.utr
END:VEVENT
END:VCALENDAR

