BEGIN:VCALENDAR
PRODID:-//www.undertheradar.co.nz//NONSGML Undertheradar//EN
VERSION:2.0
BEGIN:VEVENT
DESCRIPTION:Verrans Corner Single Release - Auckland Unitarian Church, Auckland
UID:1190175379-94322@undertheradar.co.nz
DTSTAMP:20250131T190000Z
DTSTART:20250131T190000
DTEND:20250131T190059
SUMMARY:Verrans Corner Single Release
LOCATION:Auckland Unitarian Church, Auckland
URL:http://www.undertheradar.co.nz/gig/94322/gig.utr
END:VEVENT
END:VCALENDAR

