BEGIN:VCALENDAR
PRODID:-//www.undertheradar.co.nz//NONSGML Undertheradar//EN
VERSION:2.0
BEGIN:VEVENT
DESCRIPTION:Blair Jollands And The Band Of Ghosts - The Tahi Bar, Warkworth
UID:1190175379-94441@undertheradar.co.nz
DTSTAMP:20250321T193000Z
DTSTART:20250321T193000
DTEND:20250321T193059
SUMMARY:Blair Jollands And The Band Of Ghosts
LOCATION:The Tahi Bar, Warkworth
URL:http://www.undertheradar.co.nz/gig/94441/gig.utr
END:VEVENT
END:VCALENDAR

