BEGIN:VCALENDAR
PRODID:-//www.undertheradar.co.nz//NONSGML Undertheradar//EN
VERSION:2.0
BEGIN:VEVENT
DESCRIPTION:Blindr - Lover.fighter - EP Release Party - Big Fan, Auckland
UID:1190175379-94482@undertheradar.co.nz
DTSTAMP:20250308T200000Z
DTSTART:20250308T200000
DTEND:20250308T200059
SUMMARY:Blindr - Lover.fighter - EP Release Party
LOCATION:Big Fan, Auckland
URL:http://www.undertheradar.co.nz/gig/94482/gig.utr
END:VEVENT
END:VCALENDAR

