BEGIN:VCALENDAR
PRODID:-//www.undertheradar.co.nz//NONSGML Undertheradar//EN
VERSION:2.0
BEGIN:VEVENT
DESCRIPTION:FREE GIG = Floral Clocks + Kraus 'in Search Of The Perfect Love Song' - SMALL GODS TAPROOM, Auckland
UID:1190175379-94513@undertheradar.co.nz
DTSTAMP:20250214T200000Z
DTSTART:20250214T200000
DTEND:20250214T200059
SUMMARY:FREE GIG = Floral Clocks + Kraus 'in Search Of The Perfect Love Song'
LOCATION:SMALL GODS TAPROOM, Auckland
URL:http://www.undertheradar.co.nz/gig/94513/gig.utr
END:VEVENT
END:VCALENDAR

