BEGIN:VCALENDAR
PRODID:-//www.undertheradar.co.nz//NONSGML Undertheradar//EN
VERSION:2.0
BEGIN:VEVENT
DESCRIPTION:Phoebe Rings - Whammy Bar, Auckland
UID:1190175379-94706@undertheradar.co.nz
DTSTAMP:20250329T200000Z
DTSTART:20250329T200000
DTEND:20250329T200059
SUMMARY:Phoebe Rings
LOCATION:Whammy Bar, Auckland
URL:http://www.undertheradar.co.nz/gig/94706/gig.utr
END:VEVENT
END:VCALENDAR

