BEGIN:VCALENDAR
PRODID:-//www.undertheradar.co.nz//NONSGML Undertheradar//EN
VERSION:2.0
BEGIN:VEVENT
DESCRIPTION:Super Sunday Sonic Spectacular - Double Whammy, Auckland
UID:1190175379-94922@undertheradar.co.nz
DTSTAMP:20250309T150000Z
DTSTART:20250309T150000
DTEND:20250309T150059
SUMMARY:Super Sunday Sonic Spectacular
LOCATION:Double Whammy, Auckland
URL:http://www.undertheradar.co.nz/gig/94922/gig.utr
END:VEVENT
END:VCALENDAR

