BEGIN:VCALENDAR
PRODID:-//www.undertheradar.co.nz//NONSGML Undertheradar//EN
VERSION:2.0
BEGIN:VEVENT
DESCRIPTION:Tūpiki Release Party w/ Cave Circles, Mauri M4sta, Hasji, Waiwhai - Achos, Auckland
UID:1190175379-95181@undertheradar.co.nz
DTSTAMP:20250329T200000Z
DTSTART:20250329T200000
DTEND:20250329T200059
SUMMARY:Tūpiki Release Party w/ Cave Circles, Mauri M4sta, Hasji, Waiwhai
LOCATION:Achos, Auckland
URL:http://www.undertheradar.co.nz/gig/95181/gig.utr
END:VEVENT
END:VCALENDAR

