BEGIN:VCALENDAR
PRODID:-//www.undertheradar.co.nz//NONSGML Undertheradar//EN
VERSION:2.0
BEGIN:VEVENT
DESCRIPTION:Norma’s Cypher Vol.2 - Norma Taps, Auckland
UID:1190175379-95218@undertheradar.co.nz
DTSTAMP:20250315T210000Z
DTSTART:20250315T210000
DTEND:20250315T210059
SUMMARY:Norma’s Cypher Vol.2
LOCATION:Norma Taps, Auckland
URL:http://www.undertheradar.co.nz/gig/95218/gig.utr
END:VEVENT
END:VCALENDAR

