BEGIN:VCALENDAR
PRODID:-//www.undertheradar.co.nz//NONSGML Undertheradar//EN
VERSION:2.0
BEGIN:VEVENT
DESCRIPTION:Into The Night - Myers Park, Auckland
UID:1190175379-95467@undertheradar.co.nz
DTSTAMP:20250405T170000Z
DTSTART:20250405T170000
DTEND:20250405T170059
SUMMARY:Into The Night
LOCATION:Myers Park, Auckland
URL:http://www.undertheradar.co.nz/gig/95467/gig.utr
END:VEVENT
END:VCALENDAR

