BEGIN:VCALENDAR
PRODID:-//www.undertheradar.co.nz//NONSGML Undertheradar//EN
VERSION:2.0
BEGIN:VEVENT
DESCRIPTION:Full Noise 2025 - Mt Roskill War Memorial Hall, Auckland
UID:1190175379-95473@undertheradar.co.nz
DTSTAMP:20250418T183000Z
DTSTART:20250418T183000
DTEND:20250418T183059
SUMMARY:Full Noise 2025
LOCATION:Mt Roskill War Memorial Hall, Auckland
URL:http://www.undertheradar.co.nz/gig/95473/gig.utr
END:VEVENT
END:VCALENDAR

