BEGIN:VCALENDAR
PRODID:-//www.undertheradar.co.nz//NONSGML Undertheradar//EN
VERSION:2.0
BEGIN:VEVENT
DESCRIPTION:NO/ONE With Special Guest Warren Duncan - Big Fan, Auckland
UID:1190175379-95545@undertheradar.co.nz
DTSTAMP:20250426T193000Z
DTSTART:20250426T193000
DTEND:20250426T193059
SUMMARY:NO/ONE With Special Guest Warren Duncan
LOCATION:Big Fan, Auckland
URL:http://www.undertheradar.co.nz/gig/95545/gig.utr
END:VEVENT
END:VCALENDAR

