BEGIN:VCALENDAR
PRODID:-//www.undertheradar.co.nz//NONSGML Undertheradar//EN
VERSION:2.0
BEGIN:VEVENT
DESCRIPTION:Paul Cathro Single Release w/ The Protection _ Work - Whammy Bar, Auckland
UID:1190175379-95706@undertheradar.co.nz
DTSTAMP:20250502T200000Z
DTSTART:20250502T200000
DTEND:20250502T200059
SUMMARY:Paul Cathro Single Release w/ The Protection _ Work
LOCATION:Whammy Bar, Auckland
URL:http://www.undertheradar.co.nz/gig/95706/gig.utr
END:VEVENT
END:VCALENDAR

