BEGIN:VCALENDAR
PRODID:-//www.undertheradar.co.nz//NONSGML Undertheradar//EN
VERSION:2.0
BEGIN:VEVENT
DESCRIPTION:Clemintine [May 2025] - Auckland City, Auckland
UID:1190175379-95725@undertheradar.co.nz
DTSTAMP:20250509T200000Z
DTSTART:20250509T200000
DTEND:20250509T200059
SUMMARY:Clemintine [May 2025]
LOCATION:Auckland City, Auckland
URL:http://www.undertheradar.co.nz/gig/95725/gig.utr
END:VEVENT
END:VCALENDAR

