BEGIN:VCALENDAR
PRODID:-//www.undertheradar.co.nz//NONSGML Undertheradar//EN
VERSION:2.0
BEGIN:VEVENT
DESCRIPTION:Guideropes 'Valentia' EP Release - Achos, Auckland
UID:1190175379-95810@undertheradar.co.nz
DTSTAMP:20250503T200000Z
DTSTART:20250503T200000
DTEND:20250503T200059
SUMMARY:Guideropes 'Valentia' EP Release
LOCATION:Achos, Auckland
URL:http://www.undertheradar.co.nz/gig/95810/gig.utr
END:VEVENT
END:VCALENDAR

