BEGIN:VCALENDAR
PRODID:-//www.undertheradar.co.nz//NONSGML Undertheradar//EN
VERSION:2.0
BEGIN:VEVENT
DESCRIPTION:Voom - 'Something Good Is Happening' Tour - Double Whammy, Auckland
UID:1190175379-95934@undertheradar.co.nz
DTSTAMP:20250523T193000Z
DTSTART:20250523T193000
DTEND:20250523T193059
SUMMARY:Voom - 'Something Good Is Happening' Tour
LOCATION:Double Whammy, Auckland
URL:http://www.undertheradar.co.nz/gig/95934/gig.utr
END:VEVENT
END:VCALENDAR

