BEGIN:VCALENDAR
PRODID:-//www.undertheradar.co.nz//NONSGML Undertheradar//EN
VERSION:2.0
BEGIN:VEVENT
DESCRIPTION:Cold Ceiling, Chasing South, Exit Sign - Dead Witch, Auckland
UID:1190175379-96100@undertheradar.co.nz
DTSTAMP:20250524T200000Z
DTSTART:20250524T200000
DTEND:20250524T200059
SUMMARY:Cold Ceiling, Chasing South, Exit Sign
LOCATION:Dead Witch, Auckland
URL:http://www.undertheradar.co.nz/gig/96100/gig.utr
END:VEVENT
END:VCALENDAR

