BEGIN:VCALENDAR
PRODID:-//www.undertheradar.co.nz//NONSGML Undertheradar//EN
VERSION:2.0
BEGIN:VEVENT
DESCRIPTION:GHF Issue 005: Foxtrot B2b Kravis [3 Hour Set] + Support - Il Brutto, Auckland
UID:1190175379-96306@undertheradar.co.nz
DTSTAMP:20250531T220000Z
DTSTART:20250531T220000
DTEND:20250531T220059
SUMMARY:GHF Issue 005: Foxtrot B2b Kravis [3 Hour Set] + Support
LOCATION:Il Brutto, Auckland
URL:http://www.undertheradar.co.nz/gig/96306/gig.utr
END:VEVENT
END:VCALENDAR

